BEGIN:VCALENDAR
VERSION:2.0
PRODID:-//NYSSCA - ECPv6.15.20//NONSGML v1.0//EN
CALSCALE:GREGORIAN
METHOD:PUBLISH
X-WR-CALNAME:NYSSCA
X-ORIGINAL-URL:https://nyssca.org
X-WR-CALDESC:Events for NYSSCA
REFRESH-INTERVAL;VALUE=DURATION:PT1H
X-Robots-Tag:noindex
X-PUBLISHED-TTL:PT1H
BEGIN:VTIMEZONE
TZID:UTC
BEGIN:STANDARD
TZOFFSETFROM:+0000
TZOFFSETTO:+0000
TZNAME:UTC
DTSTART:20250101T000000
END:STANDARD
END:VTIMEZONE
BEGIN:VEVENT
DTSTART;TZID=UTC:20260424T170000
DTEND;TZID=UTC:20260424T180000
DTSTAMP:20260423T095011
CREATED:20250827T204251Z
LAST-MODIFIED:20250827T204251Z
UID:10000463-1777050000-1777053600@nyssca.org
SUMMARY:MER Committee Meetings
DESCRIPTION:MER Committe Meetings at 5:00 p.m. (Every 4th Friday of the month with flexibility (*) when needed.
URL:https://nyssca.org/event/mer-committee-meetings-2/2026-04-24/
CATEGORIES:Meeting
ORGANIZER;CN="Laura Mesa":MAILTO:merchair@nyssca.org
END:VEVENT
BEGIN:VEVENT
DTSTART;TZID=UTC:20260427T073000
DTEND;TZID=UTC:20260427T083000
DTSTAMP:20260423T095011
CREATED:20251101T164038Z
LAST-MODIFIED:20251101T164038Z
UID:10000536-1777275000-1777278600@nyssca.org
SUMMARY:President's Meeting
DESCRIPTION:https://us06web.zoom.us/j/82162825423
URL:https://nyssca.org/event/presidents-meeting/2026-04-27/
END:VEVENT
BEGIN:VEVENT
DTSTART;TZID=UTC:20260429T080000
DTEND;TZID=UTC:20260429T170000
DTSTAMP:20260423T095011
CREATED:20260310T150528Z
LAST-MODIFIED:20260310T150528Z
UID:10001041-1777449600-1777482000@nyssca.org
SUMMARY:NYSSCA Book Club-"Mattering: The Secret to a Life of Deep Connection and Purpose"
DESCRIPTION:Open to All-Register HERE \nFLYER LINKED HERE
URL:https://nyssca.org/event/nyssca-book-club-mattering-the-secret-to-a-life-of-deep-connection-and-purpose/2026-04-29/
CATEGORIES:Professional Development
ATTACH;FMTTYPE=image/jpeg:https://nyssca.org/wp-content/uploads/2026/03/NYSSCA-Book-Club-Flyer-Mattering_Page_1.jpg
END:VEVENT
END:VCALENDAR